BEGIN:VCALENDAR
VERSION:2.0
PRODID:-//Squarespace Inc/Squarespace 6//v6//EN
BEGIN:VEVENT
UID:5d799be617444913dd6c4b5c@squarespace.com
DTSTAMP:20190912T013217Z
DTSTART:20191015T200000Z
DTEND:20191015T210000Z
SUMMARY:Book Club: Will Kostakis 'Monuments'
GEO:-35.185467;149.134336
LOCATION:BOOK FACE Gungahlin\, The Marketplace\, Shop H41\, 33 Hibberson St
 reet\, Gungahlin ACT 2912\, Australia
END:VEVENT
END:VCALENDAR
