BEGIN:VCALENDAR
VERSION:2.0
PRODID:-//Squarespace Inc/Squarespace 6//v6//EN
BEGIN:VEVENT
UID:5d75c63c5210ec699e4907d7@squarespace.com
DTSTAMP:20190930T034448Z
DTSTART:20191016T144500Z
DTEND:20191016T163000Z
SUMMARY:Offsite Event: Christian White 'The Wife and the Widow'
GEO:-33.437318;151.392628
LOCATION:Erina Library\, Erina Fair Shopping Centre\, Terrigal Drive\, Erin
 a\, NSW\, 2250\, Australia
END:VEVENT
END:VCALENDAR
