BEGIN:VCALENDAR
VERSION:2.0
PRODID:-//Squarespace Inc/Squarespace 6//v6//EN
BEGIN:VEVENT
UID:5d95993cf1b8cc4d58ef6b6c@squarespace.com
DTSTAMP:20200128T025638Z
DTSTART:20191018T170000Z
DTEND:20191018T180000Z
SUMMARY:Author Talk: Christian White 'The Wife and the Widow'
GEO:-35.185467;149.134336
LOCATION:BOOK FACE Gungahlin\, The Marketplace\, Shop H41\, 33 Hibberson St
 reet\, Gungahlin\, ACT\, 2912\, Australia
END:VEVENT
END:VCALENDAR
