BEGIN:VCALENDAR
VERSION:2.0
PRODID:-//Squarespace Inc/Squarespace 6//v6//EN
BEGIN:VEVENT
UID:5d959520728b771672bf43da@squarespace.com
DTSTAMP:20191017T004730Z
DTSTART:20191017T213000Z
DTEND:20191017T233000Z
SUMMARY:Music Performance + Book Reading: Ash Grunwald 'Surf By Day\, Jam B
 y Night'
GEO:-31.429862;152.908881
LOCATION:BOOK FACE Port Macquaire\, Port Central Shopping Centre\, Shop 58\
 , 40-42 Horton Street\, Port Macquarie\, NSW\, 2444\, Australia
END:VEVENT
END:VCALENDAR
