BEGIN:VCALENDAR
VERSION:2.0
PRODID:-//Squarespace Inc/Squarespace 6//v6//EN
BEGIN:VEVENT
UID:5d6c9559f37f240001948442@squarespace.com
DTSTAMP:20190902T041511Z
DTSTART:20191017T220000Z
DTEND:20191018T000000Z
SUMMARY:Offsite Event: Kathryn Hind 'Hitch'
GEO:-33.437318;151.392628
LOCATION:Erina Library\, The Hive\, Erina Fair Shopping Centre\, North Sout
 h Road\, Erina NSW 2250\, Australia
END:VEVENT
END:VCALENDAR
