BEGIN:VCALENDAR
VERSION:2.0
PRODID:-//Squarespace Inc/Squarespace 6//v6//EN
BEGIN:VEVENT
UID:5dad46a4aa1e3231b4d95285@squarespace.com
DTSTAMP:20200128T025543Z
DTSTART:20191113T170000Z
DTEND:20191113T180000Z
SUMMARY:Offsite Event: Fiona McIntosh 'The Diamond Hunter'
GEO:-28.076656;153.381976
LOCATION:Robina Library\, 196 Robina Town Centre Drive\, Robina\, QLD\, 422
 6\, Australia
END:VEVENT
END:VCALENDAR
