BEGIN:VCALENDAR
VERSION:2.0
PRODID:-//Squarespace Inc/Squarespace 6//v6//EN
BEGIN:VEVENT
UID:5d9545a53254b92f2d78e229@squarespace.com
DTSTAMP:20200128T025624Z
DTSTART:20191031T230000Z
DTEND:20191101T000000Z
SUMMARY:Book Club: David Burton 'The Man in the Water'
GEO:-27.67765;152.902189
LOCATION:BOOK FACE Orion Springfield\, Orion Springfield Central\, Shop 260
 \, 1 Main Street\, Springfield QLD 4300\, Australia
END:VEVENT
END:VCALENDAR
