BEGIN:VCALENDAR
VERSION:2.0
PRODID:-//Squarespace Inc/Squarespace 6//v6//EN
BEGIN:VEVENT
UID:5d5602ffcc94a50001a9c507@squarespace.com
DTSTAMP:20191107T022434Z
DTSTART:20191004T180000Z
DTEND:20191004T193000Z
SUMMARY:Offsite Event: Judy Nunn 'Khaki Town'
GEO:-27.921973;153.334546
LOCATION:Helensvale Library\, Lindfield Road & Sir John Overall Drive\, Hel
 ensvale QLD 4212\, Australia
END:VEVENT
END:VCALENDAR
