BEGIN:VCALENDAR
VERSION:2.0
PRODID:-//Squarespace Inc/Squarespace 6//v6//EN
BEGIN:VEVENT
UID:5d75dbfb61770c1847fb6a31@squarespace.com
DTSTAMP:20190909T050803Z
DTSTART:20191009T220000Z
DTEND:20191010T000000Z
SUMMARY:Offsite Event: Chris Hammer 'Silver'
GEO:-33.437318;151.392628
LOCATION:Erina Library\, Erina Fair Shopping Centre\, Terrigal Drive\, Erin
 a\, NSW\, 2250\, Australia
END:VEVENT
END:VCALENDAR
