BEGIN:VCALENDAR
VERSION:2.0
PRODID:-//Squarespace Inc/Squarespace 6//v6//EN
BEGIN:VEVENT
UID:5d79b2d45ddeae1fad584b16@squarespace.com
DTSTAMP:20190916T235812Z
DTSTART:20191002T220000Z
DTEND:20191003T000000Z
SUMMARY:Offsite Event: Favel Parrett 'There Was Still Love'
GEO:-28.03568;153.424085
LOCATION:Broadbeach Library\, 61 Sunshine Boulevard\, Mermaid Waters QLD 42
 18\, Australia
END:VEVENT
END:VCALENDAR
