BEGIN:VCALENDAR
VERSION:2.0
PRODID:-//Squarespace Inc/Squarespace 6//v6//EN
BEGIN:VEVENT
UID:5dad41bc25e2af536e098c42@squarespace.com
DTSTAMP:20200128T025528Z
DTSTART:20191114T154500Z
DTEND:20191114T173000Z
SUMMARY:Offsite Event: Heather Morris 'Cilka's Journey'
GEO:-33.437028;151.39167
LOCATION:Erina Library\, The Hive\, Erina Fair Shopping Centre\, Erina\, NS
 W\, 2250\, Australia
END:VEVENT
END:VCALENDAR
