BEGIN:VCALENDAR
VERSION:2.0
PRODID:-//Squarespace Inc/Squarespace 6//v6//EN
BEGIN:VEVENT
UID:5dc367c9bc13a462d7f3e0d2@squarespace.com
DTSTAMP:20200128T025515Z
DTSTART:20191115T233000Z
DTEND:20191116T010000Z
SUMMARY:The Second Annual BOOK FACE Debate
GEO:-35.185467;149.134336
LOCATION:BOOK FACE Gungahlin\, Shop H41-42 The Marketplace\, 33 Hibberson S
 treet\, Gunaghlin\, ACT\, 2912\, Australia
END:VEVENT
END:VCALENDAR
