BEGIN:VCALENDAR
VERSION:2.0
PRODID:-//Squarespace Inc/Squarespace 6//v6//EN
BEGIN:VEVENT
UID:5dbf6f0ebcfc042fbcd01d0e@squarespace.com
DTSTAMP:20200128T025434Z
DTSTART:20191116T180000Z
DTEND:20191116T193000Z
SUMMARY:Offsite Event: Heather Morris 'Cilka's Journey'
GEO:-31.433821;152.915397
LOCATION:Port Macquarie Library\, 32 Grant Street\, Port Macquarie\, New So
 uth Wales 2444\, Australia
END:VEVENT
END:VCALENDAR
