BEGIN:VCALENDAR
VERSION:2.0
PRODID:-//Squarespace Inc/Squarespace 6//v6//EN
BEGIN:VEVENT
UID:5d8bff214b1bc70967ebb5df@squarespace.com
DTSTAMP:20200128T025443Z
DTSTART:20191118T160000Z
DTEND:20191118T170000Z
SUMMARY:Offsite Event: Heather Morris 'Cilka's Journey'
GEO:-27.922516;153.333934
LOCATION:Helensvale Library\, Helensvale Plaza\, Corner Lindfield Road and 
 Sir John Overall Drive\, Helensvale QLD 4212\, Australia
END:VEVENT
END:VCALENDAR
