BEGIN:VCALENDAR
VERSION:2.0
PRODID:-//Squarespace Inc/Squarespace 6//v6//EN
BEGIN:VEVENT
UID:5dccc147d17ca03acd4b084a@squarespace.com
DTSTAMP:20200128T025450Z
DTSTART:20191123T160000Z
DTEND:20191123T170000Z
SUMMARY:Kids Workshop: Sami Bayly 'The Illustrated Encyclopaedia of Ugly An
 imals'
GEO:-31.429862;152.908881
LOCATION:BOOK FACE Port Macquarie\, Port Central Shopping Centre Shop 58 40
 -42 Horton Street\, Port Macquarie NSW 2444\, Australia
END:VEVENT
END:VCALENDAR
