BEGIN:VCALENDAR
VERSION:2.0
PRODID:-//Squarespace Inc/Squarespace 6//v6//EN
BEGIN:VEVENT
UID:5db66541bf2c227aacf7010e@squarespace.com
DTSTAMP:20200128T025608Z
DTSTART:20191105T230000Z
DTEND:20191106T000000Z
SUMMARY:Offsite Event: Chris Hammer 'Silver'
GEO:-31.433821;152.915397
LOCATION:Port Macquarie Library\, 32 Grant Street\, Port Macquarie\, New So
 uth Wales 2444\, Australia
END:VEVENT
END:VCALENDAR
