BEGIN:VCALENDAR
VERSION:2.0
PRODID:-//Squarespace Inc/Squarespace 6//v6//EN
BEGIN:VEVENT
UID:5da7ce467bed65372db7976f@squarespace.com
DTSTAMP:20200128T025556Z
DTSTART:20191109T160000Z
DTEND:20191109T170000Z
SUMMARY:Book Launch: Nikki McWatters 'Saga'
GEO:-33.437318;151.392628
LOCATION:BOOK FACE Erina Fair\, Erina Fair Shopping Centre Shop KM 006 Terr
 igal Drive\, Erina NSW 2250\, Australia
END:VEVENT
END:VCALENDAR
