BEGIN:VCALENDAR
VERSION:2.0
PRODID:-//Squarespace Inc/Squarespace 6//v6//EN
BEGIN:VEVENT
UID:5deef3e15874847c65db2f4a@squarespace.com
DTSTAMP:20200128T025456Z
DTSTART:20191213T000000Z
DTEND:20191213T010000Z
SUMMARY:Offsite Event: Angie Kent 'If You Don't Laugh You'll Cry' 
GEO:-26.655897;153.103504
LOCATION:Maroochy Surf Club Function Room\, 4/36 Alexandra Parade\, Marooch
 ydore QLD 4558\, Australia
END:VEVENT
END:VCALENDAR
