BEGIN:VCALENDAR
VERSION:2.0
PRODID:-//Squarespace Inc/Squarespace 6//v6//EN
BEGIN:VEVENT
UID:5ce3902775c10d0001475e75@squarespace.com
DTSTAMP:20190524T041626Z
DTSTART:20190524T173000Z
DTEND:20190524T190000Z
SUMMARY:Offsite Event: Candice Fox 'Gone by Midnight'
GEO:-33.437028;151.39167
LOCATION:Erina Library\, The Hive\, Erina Fair Shopping Centre\, Erina\, NS
 W\, 2250\, Australia
END:VEVENT
END:VCALENDAR
