BEGIN:VCALENDAR
VERSION:2.0
PRODID:-//Squarespace Inc/Squarespace 6//v6//EN
BEGIN:VEVENT
UID:5ce75326f9619a3f9b7ffa76@squarespace.com
DTSTAMP:20190524T022046Z
DTSTART:20190601T180000Z
DTEND:20190601T184500Z
SUMMARY:Book Signing: Morris Gleitzman
GEO:-35.185026;149.132735
LOCATION:BOOK FACE Gungahlin\, The Marketplace\, Shop H41\, 33 Hibberson St
 reet\, Gungahlin\, NSW\, 2912\, Australia
END:VEVENT
END:VCALENDAR
