BEGIN:VCALENDAR
VERSION:2.0
PRODID:-//Squarespace Inc/Squarespace 6//v6//EN
BEGIN:VEVENT
UID:5cf9c015c906fa0001b7baac@squarespace.com
DTSTAMP:20190607T015521Z
DTSTART:20190608T153000Z
DTEND:20190608T173000Z
SUMMARY:Book Reading + Performance: Hannah Kent 'Burial Rites' 
GEO:-33.437318;151.392628
LOCATION:BOOK FACE Erina Fair\, Erina Fair Shopping Centre\, Shop KM 006 Te
 rrigal Drive\, Erina\, NSW\, 2250\, Australia
END:VEVENT
END:VCALENDAR
