BEGIN:VCALENDAR
VERSION:2.0
PRODID:-//Squarespace Inc/Squarespace 6//v6//EN
BEGIN:VEVENT
UID:5ce75c0d8165f54e73bea715@squarespace.com
DTSTAMP:20190524T070012Z
DTSTART:20190617T140000Z
DTEND:20190617T160000Z
SUMMARY:Offsite Event: Heather Morris 'The Tattooist of Auschwitz' Young Re
 aders Edition
GEO:-33.921647;150.9254
LOCATION:Liverpool City Library\, 170 George Street\, Liverpool\, NSW\, 217
 0\, Australia
END:VEVENT
END:VCALENDAR
