BEGIN:VCALENDAR
VERSION:2.0
PRODID:-//Squarespace Inc/Squarespace 6//v6//EN
BEGIN:VEVENT
UID:5d044b033acbd10001ccc334@squarespace.com
DTSTAMP:20190626T234918Z
DTSTART:20190627T210000Z
DTEND:20190627T230000Z
SUMMARY:Offsite Event: Will Kostakis Author Talk
GEO:-33.437028;151.39167
LOCATION:Erina Library\, The Hive\, Erina Fair Shopping Centre\, Erina\, NS
 W\, 2250\, Australia
END:VEVENT
END:VCALENDAR
