BEGIN:VCALENDAR
VERSION:2.0
PRODID:-//Squarespace Inc/Squarespace 6//v6//EN
BEGIN:VEVENT
UID:5ce7599915fcc0c9114f292b@squarespace.com
DTSTAMP:20190524T053435Z
DTSTART:20190608T140000Z
DTEND:20190608T150000Z
SUMMARY:Book Launch: Mitch Frost 'The Ultimate Survival Guide to Monsters U
 nder the Bed'
GEO:-35.185026;149.132735
LOCATION:BOOK FACE Gungahlin\, The Marketplace\, Shop H41\, 33 Hibberson St
 reet\, Gungahlin\, NSW\, 2912\, Australia
END:VEVENT
END:VCALENDAR
