BEGIN:VCALENDAR
VERSION:2.0
PRODID:-//Squarespace Inc/Squarespace 6//v6//EN
BEGIN:VEVENT
UID:5ce799d241920283938936e8@squarespace.com
DTSTAMP:20190626T234931Z
DTSTART:20190716T140000Z
DTEND:20190716T150000Z
SUMMARY:Offsite Event: Amanda Hampson 'Sixty Summers'
GEO:-27.922901;153.336374
LOCATION:Helensvale Library\, Helensvale Plaza Corner Lindfield Road and Si
 r John Overall Drive\, Helensvale\, QLD\, 4212\, Australia
END:VEVENT
END:VCALENDAR
