BEGIN:VCALENDAR
VERSION:2.0
PRODID:-//Squarespace Inc/Squarespace 6//v6//EN
BEGIN:VEVENT
UID:5ce79790971a18614de95b28@squarespace.com
DTSTAMP:20190626T234943Z
DTSTART:20190717T143000Z
DTEND:20190717T153000Z
SUMMARY:Offsite Event: Amanda Hampson 'Sixty Summers'
GEO:-27.970725;153.412387
LOCATION:Southport Library\, Corner Garden and Lawson Streets\, Southport\, 
 QLD\, 4215\, Australia
END:VEVENT
END:VCALENDAR
