BEGIN:VCALENDAR
VERSION:2.0
PRODID:-//Squarespace Inc/Squarespace 6//v6//EN
BEGIN:VEVENT
UID:5ce79caeb208fcfa968eb458@squarespace.com
DTSTAMP:20190626T234952Z
DTSTART:20190720T143000Z
DTEND:20190720T153000Z
SUMMARY:Offsite Event: Alli Sinclair 'The Cinema at Starlight Creek' 
GEO:-28.134926;153.468664
LOCATION:Elanora Library\, The Pines Shopping Centre\, Guineas Creek Road\, 
 Elanora\, QLD\, 4221\, Australia
END:VEVENT
END:VCALENDAR
