BEGIN:VCALENDAR
VERSION:2.0
PRODID:-//Squarespace Inc/Squarespace 6//v6//EN
BEGIN:VEVENT
UID:5d11947ba3b00d0001f0c0ea@squarespace.com
DTSTAMP:20190626T235017Z
DTSTART:20190730T223000Z
DTEND:20190730T233000Z
SUMMARY:Offsite Event: Grant Edwards 'The Strong Man'
GEO:-27.922901;153.336374
LOCATION:Helensvale Library\, Helensvale Plaza\, Corner Lindfield Road and 
 Sir John Overall Drive\, Helensvale QLD 4212\, Australia
END:VEVENT
END:VCALENDAR
