BEGIN:VCALENDAR
VERSION:2.0
PRODID:-//Squarespace Inc/Squarespace 6//v6//EN
BEGIN:VEVENT
UID:5ce757f56e9a7f39b2cb09f1@squarespace.com
DTSTAMP:20191107T022538Z
DTSTART:20190608T163000Z
DTEND:20190608T173000Z
SUMMARY:Book Signing: Kathryn Hind 'Hitch'
GEO:-35.185026;149.132735
LOCATION:BOOK FACE Gungahlin\, The Marketplace\, Shop H41\, 33 Hibberson St
 reet\, Gungahlin\, NSW\, 2912\, Australia
END:VEVENT
END:VCALENDAR
