BEGIN:VCALENDAR
VERSION:2.0
PRODID:-//Squarespace Inc/Squarespace 6//v6//EN
BEGIN:VEVENT
UID:5d26c0e024d4f100019b4cd5@squarespace.com
DTSTAMP:20190814T015121Z
DTSTART:20190810T130000Z
DTEND:20190810T210000Z
SUMMARY:In-Store: Love Your Bookshop Day (GUNGAHLIN) 
GEO:-35.185026;149.132735
LOCATION:BOOK FACE Gungahlin\, The Marketplace\, Shop H41\, 33 Hibberson St
 reet\, Gungahlin ACT 2912\, Australia
END:VEVENT
END:VCALENDAR
