BEGIN:VCALENDAR
VERSION:2.0
PRODID:-//Squarespace Inc/Squarespace 6//v6//EN
BEGIN:VEVENT
UID:5d2d42c9357f690001d22cbe@squarespace.com
DTSTAMP:20190814T015147Z
DTSTART:20190810T130000Z
DTEND:20190810T210000Z
SUMMARY:In-Store: Love Your Bookshop Day (ORION)
GEO:-27.67765;152.902189
LOCATION:BOOK FACE Orion\, Orion Springfield Central Shop 260 1 Main Street
 \, Springfield QLD 4300\, Australia
END:VEVENT
END:VCALENDAR
