BEGIN:VCALENDAR
VERSION:2.0
PRODID:-//Squarespace Inc/Squarespace 6//v6//EN
BEGIN:VEVENT
UID:5d3a63e990773e0001896583@squarespace.com
DTSTAMP:20190814T015129Z
DTSTART:20190810T130000Z
DTEND:20190810T210000Z
SUMMARY:In-Store: Love Your Bookshop Day (ERINA FAIR)
GEO:-33.437318;151.392628
LOCATION:BOOK FACE Erina Fair\, Erina Fair Shopping Centre\, Shop KM 006 Te
 rrigal Drive\, Erina NSW 2250\, Australia
END:VEVENT
END:VCALENDAR
