BEGIN:VCALENDAR
VERSION:2.0
PRODID:-//Squarespace Inc/Squarespace 6//v6//EN
BEGIN:VEVENT
UID:5d23ed6c8ae3870001660dfb@squarespace.com
DTSTAMP:20190802T023554Z
DTSTART:20190810T130000Z
DTEND:20190810T210000Z
SUMMARY:Love Your Bookshop Day
GEO:38.651157;-121.065941
LOCATION:All BOOK FACE Stores
END:VEVENT
END:VCALENDAR
