BEGIN:VCALENDAR
VERSION:2.0
PRODID:-//Squarespace Inc/Squarespace 6//v6//EN
BEGIN:VEVENT
UID:5d5396c4aaae4f00015688b0@squarespace.com
DTSTAMP:20190818T231944Z
DTSTART:20190817T150000Z
DTEND:20190817T160000Z
SUMMARY:Book Signing: Yvette Poshoglian 'Puppy Dairy: The Great Toy Rescue'
GEO:-33.437318;151.392628
LOCATION:BOOK FACE Erina Fair\, Erina Fair Shopping Centre Shop KM 006 Terr
 igal Drive\, Erina NSW 2250\, Australia
END:VEVENT
END:VCALENDAR
