BEGIN:VCALENDAR
VERSION:2.0
PRODID:-//Squarespace Inc/Squarespace 6//v6//EN
BEGIN:VEVENT
UID:5d53928c2780810001079fd3@squarespace.com
DTSTAMP:20190822T004017Z
DTSTART:20190820T140000Z
DTEND:20190820T150000Z
SUMMARY:Offsite Event: Annie Seaton 'Undara'
GEO:-31.433821;152.915397
LOCATION:Port Macquarie Library\, 32 Grant Street\, Port Macquarie\, NSW\, 
 2444\, Australia
END:VEVENT
END:VCALENDAR
