BEGIN:VCALENDAR
VERSION:2.0
PRODID:-//Squarespace Inc/Squarespace 6//v6//EN
BEGIN:VEVENT
UID:5ce76e00e79c702e566059e1@squarespace.com
DTSTAMP:20190818T232143Z
DTSTART:20190821T223000Z
DTEND:20190821T233000Z
SUMMARY:Offsite Event: Joy Rhoades 'The Burnt Country' 
GEO:-35.185118;149.132349
LOCATION:Gungahlin Library\, Cnr Hibberson and Gozzard Street\, Gungahlin\, 
 NSW\, 2912\, Australia
END:VEVENT
END:VCALENDAR
