BEGIN:VCALENDAR
VERSION:2.0
PRODID:-//Squarespace Inc/Squarespace 6//v6//EN
BEGIN:VEVENT
UID:5d3f982925cb070001613ab4@squarespace.com
DTSTAMP:20190814T015157Z
DTSTART:20190803T150000Z
DTEND:20190803T180000Z
SUMMARY:In-Store: Book-signing Samuel Leighton-Dore 'How To Be A Big Strong 
 Man'
GEO:-28.036514;153.428031
LOCATION:BOOK FACE Pacific Fair\, Pacific Fair Shopping Centre\, Shop 1622 
 Cnr Sunshine & Hooker Boulevards\, Broadbeach QLD 4218\, Australia
END:VEVENT
END:VCALENDAR
