BEGIN:VCALENDAR
VERSION:2.0
PRODID:-//Squarespace Inc/Squarespace 6//v6//EN
BEGIN:VEVENT
UID:5d1400c6cf03000001498a36@squarespace.com
DTSTAMP:20190722T232335Z
DTSTART:20190808T220000Z
DTEND:20190809T000000Z
SUMMARY:Offsite Event: Matt Moran Cocktail Hour
GEO:-27.677404;152.900562
LOCATION:Springfield Central Library\, Cnr Main St and\, Sirius Drive\, Spr
 ingfield Central QLD 4300\, Australia
END:VEVENT
END:VCALENDAR
