BEGIN:VCALENDAR
VERSION:2.0
PRODID:-//Squarespace Inc/Squarespace 6//v6//EN
BEGIN:VEVENT
UID:5d53af0337dd9e000102b9c9@squarespace.com
DTSTAMP:20190912T003236Z
DTSTART:20190919T223000Z
DTEND:20190920T000000Z
SUMMARY:In-Store: Australian Reading Hour Panel Discussion
GEO:-35.185467;149.134336
LOCATION:BOOK FACE Gungahlin\, The Marketplace\, Shop H41\, 33 Hibberson St
 reet\, Gungahlin ACT 2912\, Australia
END:VEVENT
END:VCALENDAR
