BEGIN:VCALENDAR
VERSION:2.0
PRODID:-//Squarespace Inc/Squarespace 6//v6//EN
BEGIN:VEVENT
UID:5d55fd2f5638d80001674b3e@squarespace.com
DTSTAMP:20190816T011137Z
DTSTART:20190902T220000Z
DTEND:20190903T000000Z
SUMMARY:Offsite Event: Michael Robotham 'Good Girl Bad Girl' 
GEO:-31.433821;152.915397
LOCATION:Port Macquarie Library\, 32 Grant Street\, Port Macquarie NSW 2444
 \, Australia
END:VEVENT
END:VCALENDAR
