BEGIN:VCALENDAR
VERSION:2.0
PRODID:-//Squarespace Inc/Squarespace 6//v6//EN
BEGIN:VEVENT
UID:5d5de11d7a088e0001a0b22f@squarespace.com
DTSTAMP:20190909T033702Z
DTSTART:20190925T143000Z
DTEND:20190925T160000Z
SUMMARY:Offsite Event: Christian White 'The Wife and the Widow'
GEO:-31.433821;152.915397
LOCATION:Port Macquarie Library\, 32 Grant Street\, Port Macquarie NSW 2444
 \, Australia
END:VEVENT
END:VCALENDAR
