BEGIN:VCALENDAR
VERSION:2.0
PRODID:-//Squarespace Inc/Squarespace 6//v6//EN
BEGIN:VEVENT
UID:5e2682e8d88c7d1ea139863c@squarespace.com
DTSTAMP:20200121T050044Z
DTSTART:20200215T150000Z
DTEND:20200215T160000Z
SUMMARY:Book Launch: Samantha Tidy 'Our Bush Capital'
GEO:-35.184595;149.134898
LOCATION:BOOK FACE Gunaghlin\, The Marketplace\, Shop H41\, 33 Hibberson St
 reet\, Gungahlin ACT 2912\, Australia
END:VEVENT
END:VCALENDAR
