BEGIN:VCALENDAR
VERSION:2.0
PRODID:-//Squarespace Inc/Squarespace 6//v6//EN
BEGIN:VEVENT
UID:5e423f7fa5242f007ac81b20@squarespace.com
DTSTAMP:20200211T055302Z
DTSTART:20200218T160000Z
DTEND:20200218T170000Z
SUMMARY:Author Talk: Annie Seaton 'Undara'
GEO:-31.429862;152.908881
LOCATION:BOOK FACE Port Macquarie\, Port Central Shopping Centre Shop 58 40
 -42 Horton Street\, Port Macquarie NSW 2444\, Australia
END:VEVENT
END:VCALENDAR
