BEGIN:VCALENDAR
VERSION:2.0
PRODID:-//Squarespace Inc/Squarespace 6//v6//EN
BEGIN:VEVENT
UID:5e2f9b0f14b4c56a5a02f366@squarespace.com
DTSTAMP:20200128T023837Z
DTSTART:20200219T184500Z
DTEND:20200219T201500Z
SUMMARY:Offsite Event: Stephanie Parkyn 'Josephine's Garden'
GEO:-33.437028;151.39167
LOCATION:Erina Library\, The Hive\, Erina Fair\, Erina NSW 2250\, Australia
END:VEVENT
END:VCALENDAR
