BEGIN:VCALENDAR
VERSION:2.0
PRODID:-//Squarespace Inc/Squarespace 6//v6//EN
BEGIN:VEVENT
UID:5e422c1ec10f9011f5254610@squarespace.com
DTSTAMP:20200211T042923Z
DTSTART:20200223T180000Z
DTEND:20200223T190000Z
SUMMARY:Book Signing: Stephanie Parkyn 'Josephine's Garden'
GEO:-28.036154;153.427232
LOCATION:BOOK FACE Pacific Fair\, Pacific Fair Shopping Centre\, Shop 1622 
 Cnr Sunshine & Hooker Boulevards\, Broadbeach QLD 4218\, Australia
END:VEVENT
END:VCALENDAR
