BEGIN:VCALENDAR
VERSION:2.0
PRODID:-//Squarespace Inc/Squarespace 6//v6//EN
BEGIN:VEVENT
UID:5e2680396570d547542204c0@squarespace.com
DTSTAMP:20200225T045833Z
DTSTART:20200205T233000Z
DTEND:20200206T003000Z
SUMMARY:Offsite Event: Rachel Givney 'Jane In Love'
GEO:-35.185118;149.132349
LOCATION:Gungahlin Library\, Corner of Hibberson &\, Gozzard St\, Gungahlin 
 ACT 2912\, Australia
END:VEVENT
END:VCALENDAR
