BEGIN:VCALENDAR
VERSION:2.0
PRODID:-//Squarespace Inc/Squarespace 6//v6//EN
BEGIN:VEVENT
UID:5e4212a8c10f9011f51fc1ad@squarespace.com
DTSTAMP:20200211T023943Z
DTSTART:20200310T230000Z
DTEND:20200311T000000Z
SUMMARY:Offsite Event: In Conversation with Dr Robert Elliott Smith
GEO:-28.001271;153.416713
LOCATION:HOTA\, 135 Bundall Road\, Surfers Paradise\, QLD 4217\, Australia
END:VEVENT
END:VCALENDAR
