BEGIN:VCALENDAR
VERSION:2.0
PRODID:-//Squarespace Inc/Squarespace 6//v6//EN
BEGIN:VEVENT
UID:5e4214078185f139c7f965c7@squarespace.com
DTSTAMP:20200211T024428Z
DTSTART:20200311T230000Z
DTEND:20200312T000000Z
SUMMARY:Offsite Event: In Conversation with Christiana Figueres
GEO:-28.001271;153.416713
LOCATION:HOTA\, 135 Bundall Road\, Surfers Paradise\, QLD 4217\, Australia
END:VEVENT
END:VCALENDAR
