BEGIN:VCALENDAR
VERSION:2.0
PRODID:-//Squarespace Inc/Squarespace 6//v6//EN
BEGIN:VEVENT
UID:5e420d5ab76b490661ee6f60@squarespace.com
DTSTAMP:20200211T022008Z
DTSTART:20200312T233000Z
DTEND:20200313T003000Z
SUMMARY:Offsite Event: Kathy Lette's Big Night Out
GEO:-28.001271;153.416713
LOCATION:HOTA\, 135 Bundall Road\, Surfers Paradise\, QLD\, 4217\, Australi
 a
END:VEVENT
END:VCALENDAR
