BEGIN:VCALENDAR
VERSION:2.0
PRODID:-//Squarespace Inc/Squarespace 6//v6//EN
BEGIN:VEVENT
UID:5e421a9fa5242f007ac0afa6@squarespace.com
DTSTAMP:20200211T033143Z
DTSTART:20200320T143000Z
DTEND:20200320T153000Z
SUMMARY:Offsite Event: Sarah Macdonald and Cathy Wilcox 'So... You're Havin
 g A Teenager'
GEO:-33.437028;151.39167
LOCATION:Erina Library\, The Hive\, Erina Fair\, Erina NSW 2250\, Australia
END:VEVENT
END:VCALENDAR
